BEGIN:VCALENDAR
VERSION:2.0
PRODID:-//wp-events-plugin.com//6.6.2//EN
TZID:Asia/Kolkata
X-WR-TIMEZONE:Asia/Kolkata
BEGIN:VEVENT
UID:499@mapindia2024.redstart.dev
DTSTART;TZID=Asia/Kolkata:20250705T150000
DTEND;TZID=Asia/Kolkata:20250706T153000
DTSTAMP:20250704T072532Z
URL:https://mapindia2024.redstart.dev/map-events/up-close-and-centre/
SUMMARY:Up\, Close and Centre
DESCRIPTION:If taking a close look at history interests you\, this drop-in 
 session is for you. Meghana Kuppa\, co-curator of MAP’s exhibition Hello
  &amp\; Goodbye: Postcards from the Early 20th Century\, will delve into p
 ostcards as storytellers of the past.\n\nBy unpacking the images and delic
 ately penned messages on postcards\, we can find insightful anecdotes shar
 ed between families\, lovers and friends. Meghana will explore snippets of
  everyday life in the British Raj by going through a postcard exchange bet
 ween Eloise– the wife of an English East India Company servant stationed
  in Calcutta in undivided India– and her aunt Jeannie.
ATTACH;FMTTYPE=image/jpeg:https://mapindia2024.redstart.dev/wp-content/upl
 oads/2024/05/Website-Image-1440-x-810-17.png
END:VEVENT
BEGIN:VTIMEZONE
TZID:Asia/Kolkata
X-LIC-LOCATION:Asia/Kolkata
BEGIN:STANDARD
DTSTART:20240705T150000
TZOFFSETFROM:+0530
TZOFFSETTO:+0530
TZNAME:IST
END:STANDARD
END:VTIMEZONE
END:VCALENDAR