BEGIN:VCALENDAR
VERSION:2.0
PRODID:-//wp-events-plugin.com//6.6.2//EN
TZID:Asia/Kolkata
X-WR-TIMEZONE:Asia/Kolkata
BEGIN:VEVENT
UID:503@mapindia2024.redstart.dev
DTSTART;TZID=Asia/Kolkata:20241106T010000
DTEND;TZID=Asia/Kolkata:20251120T011500
DTSTAMP:20250926T095001Z
URL:https://mapindia2024.redstart.dev/map-events/test-event/
SUMMARY:Test Event
DESCRIPTION:testing 123
END:VEVENT
BEGIN:VTIMEZONE
TZID:Asia/Kolkata
X-LIC-LOCATION:Asia/Kolkata
BEGIN:STANDARD
DTSTART:20231107T010000
TZOFFSETFROM:+0530
TZOFFSETTO:+0530
TZNAME:IST
END:STANDARD
END:VTIMEZONE
END:VCALENDAR