BEGIN:VCALENDAR
VERSION:2.0
PRODID:-//wp-events-plugin.com//6.6.2//EN
TZID:Asia/Kolkata
X-WR-TIMEZONE:Asia/Kolkata
BEGIN:VEVENT
UID:483@mapindia2024.redstart.dev
DTSTART;TZID=Asia/Kolkata;VALUE=DATE:20240512
DTEND;TZID=Asia/Kolkata;VALUE=DATE:20240513
DTSTAMP:20240509T070745Z
URL:https://mapindia2024.redstart.dev/map-events/mothers-day-at-map/
SUMMARY:Mother's Day at MAP
DESCRIPTION:Mother and Child\, Late 20th century\, T. S. Satyan\, Indian\, 
 1923 - 2009. Accession Number: PHY.12439-41.\n\nCelebrate the mothers in y
 our life this Sunday at MAP with complimentary entry and a variety of acti
 vities to indulge in. Get ready for a day filled with picture perfect mome
 nts and heartfelt gestures\, designed to honor the wonderful women who sha
 pe our lives.\n\nThere's something on for every family to enjoy together. 
 Show your appreciation in creative ways by crafting a digital flower bouqu
 et with MAP's Bouquet of Hope. We also have an array of fun and engaging a
 ctivities you can participate in as a family. This includes:\n\n- 11:30 am
  - 12:30 pm | A storytelling session for young children (6-10 years) and t
 heir families. The reading will be from a book by children's author\, Drew
  Daywalt.\n\n- 3:00 - 4:30 pm | A walkthrough of our ongoing exhibition He
 llo &amp\; Goodbye\, Postcards from the Early 20th Century\, followed by a
  postcard making workshop (ages 10+).\n\n- All Day | You can also drop in 
 and design your own vinyl stickers that captures your imaginations.\n\nWhe
 ther you're unleashing your creativity or simply basking in the art-mosphe
 re\, it's a celebration guaranteed to bond over.\n\nJoin us at MAP this Su
 nday and let's make it a day to remember as we honour the remarkable women
  in our lives.
ATTACH;FMTTYPE=image/jpeg:https://mapindia2024.redstart.dev/wp-content/upl
 oads/2024/05/Website-Image-1440-x-810-12.png
LOCATION:Museum of Art & Photography\, 22 Kasturba Road\, Bengaluru\, Karna
 taka\, 560001\, India
X-APPLE-STRUCTURED-LOCATION;VALUE=URI;X-ADDRESS=22 Kasturba Road\, Bengalur
 u\, Karnataka\, 560001\, India;X-APPLE-RADIUS=100;X-TITLE=Museum of Art & 
 Photography:geo:0,0
END:VEVENT
BEGIN:VTIMEZONE
TZID:Asia/Kolkata
X-LIC-LOCATION:Asia/Kolkata
BEGIN:STANDARD
DTSTART:20230513T000000
TZOFFSETFROM:+0530
TZOFFSETTO:+0530
TZNAME:IST
END:STANDARD
END:VTIMEZONE
END:VCALENDAR