BEGIN:VCALENDAR
VERSION:2.0
PRODID:-//wp-events-plugin.com//6.6.2//EN
TZID:Asia/Kolkata
X-WR-TIMEZONE:Asia/Kolkata
BEGIN:VEVENT
UID:472@mapindia2024.redstart.dev
DTSTART;TZID=Asia/Kolkata:20240425T180000
DTEND;TZID=Asia/Kolkata:20240425T180000
DTSTAMP:20240423T105705Z
URL:https://mapindia2024.redstart.dev/map-events/loves-labours-lost/
SUMMARY:Love’s\, Labour’s Lost
DESCRIPTION:In this month’s edition of Reader's Bloc\, we will be thinkin
 g about love and unpacking all the different definitions of love and roman
 ce we have in our dictionaries. We are reading two texts — All About Lov
 e by Bell Hooks\, where she very wonderfully challenges our notions of lov
 e and how we perceive it\; and bits from If Beale Street Could Talk by Jam
 es Baldwin\, a lovely novel that explores the various kinds of love we dep
 end\, on even when it feels like all the love in our lives have been taken
  away.\n\nWe will be joined by one of our wonderful collective members\, A
 ryan Gulati\, who helped with the selection of the readings for this sessi
 on\, and will also be co-moderating it.\n\nOn registration\, we will send 
 you the text and the topics/themes we will discuss.\n\nThis programme is e
 xclusively for 18–25 year olds.\n\nReader's Bloc is an online/IRL group 
 of readers taking part in reading\, listening and sharing exercises around
  texts that help us learn more about ourselves\, the identities we share a
 nd the communities we live in.\n\nThis session is conducted as part of our
  engagements for the MAP Youth Collective. The MAP Youth Collective is a c
 ommunity for young people (18-25 year olds) to engage with the arts and cu
 lture sector. The collective is for\, of and by young people — to explor
 e our shared identities and interests through art.
ATTACH;FMTTYPE=image/jpeg:https://mapindia2024.redstart.dev/wp-content/upl
 oads/2024/04/Website-Image-1440-x-810-2.png
END:VEVENT
BEGIN:VTIMEZONE
TZID:Asia/Kolkata
X-LIC-LOCATION:Asia/Kolkata
BEGIN:STANDARD
DTSTART:20230426T180000
TZOFFSETFROM:+0530
TZOFFSETTO:+0530
TZNAME:IST
END:STANDARD
END:VTIMEZONE
END:VCALENDAR