BEGIN:VCALENDAR
VERSION:2.0
PRODID:-//wp-events-plugin.com//6.6.2//EN
TZID:Asia/Kolkata
X-WR-TIMEZONE:Asia/Kolkata
BEGIN:VEVENT
UID:471@mapindia2024.redstart.dev
DTSTART;TZID=Asia/Kolkata:20240427T110000
DTEND;TZID=Asia/Kolkata:20240427T123000
DTSTAMP:20240427T015034Z
URL:https://mapindia2024.redstart.dev/map-events/journey-through-time/
SUMMARY:Journey Through Time
DESCRIPTION:Travel through the past with Dr. Pradeep Chakravarthy\, author 
 of A History of South India for Children\, as he explores 5 objects from t
 he MAP collection that lend insight into our history. A lady holding a lam
 p cast in the 17th century becomes a placeholder for an ancient poem on ho
 w lamps can lead us to better wisdom\, how trade with Rome influenced Indi
 a\, and what were textiles and jewellery designs of that time. A Bhuta mas
 k from Karnataka will link back to our connection with nature and older pr
 ehistoric rituals.\n\nAt the end of the session\, children will not only h
 ave learnt about the rich history of South India\, but also have a greater
  appreciation for South Indian art and how art and daily life came togethe
 r to help people live life.
ATTACH;FMTTYPE=image/jpeg:https://mapindia2024.redstart.dev/wp-content/upl
 oads/2024/04/Website-Image-1440-x-810-4.png
END:VEVENT
BEGIN:VTIMEZONE
TZID:Asia/Kolkata
X-LIC-LOCATION:Asia/Kolkata
BEGIN:STANDARD
DTSTART:20230428T110000
TZOFFSETFROM:+0530
TZOFFSETTO:+0530
TZNAME:IST
END:STANDARD
END:VTIMEZONE
END:VCALENDAR