BEGIN:VCALENDAR
VERSION:2.0
PRODID:-//wp-events-plugin.com//6.6.2//EN
TZID:Asia/Kolkata
X-WR-TIMEZONE:Asia/Kolkata
BEGIN:VEVENT
UID:68@mapindia2024.redstart.dev
DTSTART;TZID=Asia/Kolkata:20220310T160000
DTEND;TZID=Asia/Kolkata:20220310T180000
DTSTAMP:20230208T043446Z
URL:https://mapindia2024.redstart.dev/map-events/iconic-images-2/
SUMMARY:Iconic Images
DESCRIPTION:Join us in an interactive workshop and discover how you can hel
 p your learners reflect deeply and think critically about photography.
ATTACH;FMTTYPE=image/jpeg:https://mapindia2024.redstart.dev/wp-content/upl
 oads/2022/11/1200baingani-1.png
LOCATION:\, \, 
X-APPLE-STRUCTURED-LOCATION;VALUE=URI;X-ADDRESS=\, ;X-APPLE-RADIUS=100;X-TI
 TLE=:geo:0,0
END:VEVENT
BEGIN:VTIMEZONE
TZID:Asia/Kolkata
X-LIC-LOCATION:Asia/Kolkata
BEGIN:STANDARD
DTSTART:20210310T160000
TZOFFSETFROM:+0530
TZOFFSETTO:+0530
TZNAME:IST
END:STANDARD
END:VTIMEZONE
END:VCALENDAR