BEGIN:VCALENDAR
VERSION:2.0
PRODID:-//wp-events-plugin.com//6.6.2//EN
TZID:Asia/Kolkata
X-WR-TIMEZONE:Asia/Kolkata
BEGIN:VEVENT
UID:467@mapindia2024.redstart.dev
DTSTART;TZID=Asia/Kolkata:20240420T110000
DTEND;TZID=Asia/Kolkata:20240420T120000
DTSTAMP:20240418T041436Z
URL:https://mapindia2024.redstart.dev/map-events/fetching-stories-with-kok
 o-wooferjee/
SUMMARY:Fetching Stories with Koko Wooferjee
DESCRIPTION:Join us for a tail-wagging adventure with Priya\, the voice of 
 Koko Wooferjee\, storyteller extraordinaire! Come over to MAP\, Bengaluru 
 for a unique event\, as Koko delves into the fascinating world of our late
 st exhibition\, Hello &amp\; Goodbye: Postcards From the Early 20th Centur
 y.\n\nKoko Wooferjee isn't your average storyteller. With a wag of the tai
 l and a twinkle in the eye\, Koko brings history to life in a way that's s
 ure to captivate both young and old audiences alike. As Koko sniffs out th
 e secrets hidden within the postcards of yesteryears\, prepare to be whisk
 ed away on a journey through time.\n\nPlease note: Since the age group of 
 the audience is very young (5-7 years)\, it is mandatory for the guardians
  to accompany their kids throughout the session.\n\nAlso\, this booking fo
 rm allows only one kid to register. If you wish to register for more than 
 one kid\, please book again. Maximum number of children allowed is two.
ATTACH;FMTTYPE=image/jpeg:https://mapindia2024.redstart.dev/wp-content/upl
 oads/2024/04/WEBSITE-BANNER.jpg
END:VEVENT
BEGIN:VTIMEZONE
TZID:Asia/Kolkata
X-LIC-LOCATION:Asia/Kolkata
BEGIN:STANDARD
DTSTART:20230421T110000
TZOFFSETFROM:+0530
TZOFFSETTO:+0530
TZNAME:IST
END:STANDARD
END:VTIMEZONE
END:VCALENDAR