BEGIN:VCALENDAR
VERSION:2.0
PRODID:-//wp-events-plugin.com//6.6.2//EN
TZID:Asia/Kolkata
X-WR-TIMEZONE:Asia/Kolkata
BEGIN:VEVENT
UID:508@mapindia2024.redstart.dev
DTSTART;TZID=Asia/Kolkata;VALUE=DATE:20250919
DTEND;TZID=Asia/Kolkata;VALUE=DATE:20250920
DTSTAMP:20250929T105436Z
URL:https://mapindia2024.redstart.dev/map-events/family-day-booking-test/
SUMMARY:Family Day - Booking Test
DESCRIPTION:This is a test event Page to test and look into booking multipl
 e ticket types for Adult and Children.
ATTACH;FMTTYPE=image/jpeg:https://mapindia2024.redstart.dev/wp-content/upl
 oads/2025/09/Museum-of-Art-Photography_Google-Maps-Image-scaled.jpg
END:VEVENT
BEGIN:VTIMEZONE
TZID:Asia/Kolkata
X-LIC-LOCATION:Asia/Kolkata
BEGIN:STANDARD
DTSTART:20240919T000000
TZOFFSETFROM:+0530
TZOFFSETTO:+0530
TZNAME:IST
END:STANDARD
END:VTIMEZONE
END:VCALENDAR