BEGIN:VCALENDAR
VERSION:2.0
PRODID:-//wp-events-plugin.com//6.6.2//EN
TZID:Asia/Kolkata
X-WR-TIMEZONE:Asia/Kolkata
BEGIN:VEVENT
UID:501@mapindia2024.redstart.dev
DTSTART;TZID=Asia/Kolkata:20250702T183000
DTEND;TZID=Asia/Kolkata:20250704T183000
DTSTAMP:20250701T095440Z
URL:https://mapindia2024.redstart.dev/map-events/artist-talks/
SUMMARY:Artist Talks
DESCRIPTION:Sundari\, 2014. Image Courtesy of Priyadarshini Ravichandran.\n
 \nPriyadarshini Ravichandran is a photographer who works closely with recu
 rrent themes emerging in relationships that root\, reveal or unsettle her.
  In this edition of Artist Talks\, Priyadarshini will speak about how chan
 ce encounters\, unspoken familial tensions\, and mysteries hidden in the o
 bvious have become inspirations for her work. The session will end with a 
 brief conversation between the artist and Arnika Ahldag\, Head of Curation
  &amp\; Exhibition at MAP\, Bengaluru.\n\n&nbsp\;
ATTACH;FMTTYPE=image/jpeg:https://mapindia2024.redstart.dev/wp-content/upl
 oads/2024/06/1-1.png
END:VEVENT
BEGIN:VTIMEZONE
TZID:Asia/Kolkata
X-LIC-LOCATION:Asia/Kolkata
BEGIN:STANDARD
DTSTART:20240702T183000
TZOFFSETFROM:+0530
TZOFFSETTO:+0530
TZNAME:IST
END:STANDARD
END:VTIMEZONE
END:VCALENDAR